BEGIN:VCALENDAR
VERSION:2.0
PRODID:-//Sabre//Sabre VObject 4.5.8//EN
CALSCALE:GREGORIAN
BEGIN:VEVENT
UID:sabre-vobject-930020e8-ec79-4fd3-95d9-859a197c1951
DTSTAMP:20260424T212328Z
SUMMARY:Weinverkostung mit Weinbergführung
DESCRIPTION:https://app.neuburg.com/weinverkostung-mit-weinbergfuehrung_id3
 4745
DTSTART;TZID=Europe/Berlin:20260613T160000
DTEND;TZID=Europe/Berlin:20260613T190000
LOCATION:Weinberg & Weinhaus Tremml\, \, 86633 Neuburg an der Donau
END:VEVENT
END:VCALENDAR
