BEGIN:VCALENDAR
VERSION:2.0
PRODID:-//Sabre//Sabre VObject 4.5.8//EN
CALSCALE:GREGORIAN
BEGIN:VEVENT
UID:sabre-vobject-d524626e-b48d-44f5-89bd-8aac94454da4
DTSTAMP:20260424T142433Z
SUMMARY:Weinverkostung mit Weinbergführung
DESCRIPTION:https://app.neuburg.com/weinverkostung-mit-weinbergfuehrung_id3
 4744
DTSTART;TZID=Europe/Berlin:20260509T160000
DTEND;TZID=Europe/Berlin:20260509T190000
LOCATION:Weinberg & Weinhaus Tremml\, \, 86633 Neuburg an der Donau
END:VEVENT
END:VCALENDAR
