BEGIN:VCALENDAR
VERSION:2.0
PRODID:-//Sabre//Sabre VObject 4.5.8//EN
CALSCALE:GREGORIAN
BEGIN:VEVENT
UID:sabre-vobject-35062150-2880-41a9-a45f-e2f5de4cedc9
DTSTAMP:20260422T011543Z
SUMMARY:Boule-Spiel auf dem Karlsplatz
DESCRIPTION:https://app.neuburg.com/boule-spiel-auf-dem-karlsplatz_id33422
DTSTART;TZID=Europe/Berlin:20260424T140000
DURATION:PT30M
LOCATION:Historischer Karlsplatz\, Karlsplatz\, 86633 Neuburg an der Donau
END:VEVENT
END:VCALENDAR
