BEGIN:VCALENDAR
VERSION:2.0
PRODID:-//Sabre//Sabre VObject 4.5.8//EN
CALSCALE:GREGORIAN
BEGIN:VEVENT
UID:sabre-vobject-d97c4740-0a6a-4221-891c-5df2a103a6d3
DTSTAMP:20260424T110118Z
SUMMARY:Freiluft-Training (Gymnastik)
DESCRIPTION:https://app.neuburg.com/freiluft-training-gymnastik_id32908
DTSTART;TZID=Europe/Berlin:20260428T100000
DTEND;TZID=Europe/Berlin:20260428T104500
LOCATION:Bürgerhaus Ostend\, Berliner Straße 164\, 86633 Neuburg an der D
 onau
END:VEVENT
END:VCALENDAR
