BEGIN:VCALENDAR
VERSION:2.0
PRODID:-//Sabre//Sabre VObject 4.5.8//EN
CALSCALE:GREGORIAN
BEGIN:VEVENT
UID:sabre-vobject-cb41c10f-8f20-4b58-b154-566605786a0f
DTSTAMP:20260424T212441Z
SUMMARY:Hofgartenfest
DESCRIPTION:https://app.neuburg.com/hofgartenfest_id31475
DTSTART;TZID=Europe/Berlin:20260614T110000
DURATION:PT30M
LOCATION:Hofgarten
END:VEVENT
END:VCALENDAR
