BEGIN:VCALENDAR
VERSION:2.0
PRODID:-//Sabre//Sabre VObject 4.5.8//EN
CALSCALE:GREGORIAN
BEGIN:VEVENT
UID:sabre-vobject-5b027778-d696-43cd-a28d-1c99e4ef8e8a
DTSTAMP:20260424T161507Z
SUMMARY:Weinverkostung mit Weinbergführung
DESCRIPTION:https://app.neuburg.com/weinverkostung-mit-weinbergfuehrung_id2
 7343
DTSTART;TZID=Europe/Berlin:20260501T000000
DTEND;TZID=Europe/Berlin:20260930T000000
LOCATION:Weinberg & Weinhaus Tremml\, \, 86633 Neuburg an der Donau
END:VEVENT
END:VCALENDAR
