BEGIN:VCALENDAR
VERSION:2.0
PRODID:-//Sabre//Sabre VObject 4.5.8//EN
CALSCALE:GREGORIAN
BEGIN:VEVENT
UID:sabre-vobject-7ca19f80-e939-49fd-94f9-022e7dd38576
DTSTAMP:20260419T134035Z
SUMMARY:Spielen im JuZe\, Sa. 30.07.2022 ab 14 Uhr
DESCRIPTION:https://app.neuburg.com/spielen-im-juze-sa-30-07-2022-ab-14-uhr
 _id19775
DTSTART;TZID=Europe/Berlin:20220730T140000
DTEND;TZID=Europe/Berlin:20220730T230000
LOCATION:Jugendzentrum Neuburg\, Fünfzehnerstraße 24\, 86633 Neuburg an d
 er Donau
END:VEVENT
END:VCALENDAR
