BEGIN:VCALENDAR
VERSION:2.0
PRODID:-//Sabre//Sabre VObject 4.5.8//EN
CALSCALE:GREGORIAN
BEGIN:VEVENT
UID:sabre-vobject-47ffe0b1-c357-4899-a8fa-77484284f49b
DTSTAMP:20260421T093018Z
SUMMARY:Spielen im JuZe\, Do. 21.07.2022 ab 19 Uhr
DESCRIPTION:https://app.neuburg.com/spielen-im-juze-do-21-07-2022-ab-19-uhr
 _id19773
DTSTART;TZID=Europe/Berlin:20220721T190000
DTEND;TZID=Europe/Berlin:20220721T230000
LOCATION:Jugendzentrum Neuburg\, Fünfzehnerstraße 24\, 86633 Neuburg an d
 er Donau
END:VEVENT
END:VCALENDAR
