BEGIN:VCALENDAR
VERSION:2.0
PRODID:-//Sabre//Sabre VObject 4.5.8//EN
CALSCALE:GREGORIAN
BEGIN:VEVENT
UID:sabre-vobject-2721cacc-4b98-4899-8de7-71f6f1ebe821
DTSTAMP:20260419T184851Z
SUMMARY:NML 17.07.2022 ab 10:00
DESCRIPTION:https://app.neuburg.com/nml-17-07-2022-ab-10-00_id19772
DTSTART;TZID=Europe/Berlin:20220717T100000
DTEND;TZID=Europe/Berlin:20220717T170000
LOCATION:Jugendzentrum Neuburg\, Fünfzehnerstraße 24\, 86633 Neuburg an d
 er Donau
END:VEVENT
END:VCALENDAR
