BEGIN:VCALENDAR
VERSION:2.0
PRODID:-//Sabre//Sabre VObject 4.5.8//EN
CALSCALE:GREGORIAN
BEGIN:VEVENT
UID:sabre-vobject-d7d8afe1-ef37-42b8-941a-7117d0500bcc
DTSTAMP:20260419T204408Z
SUMMARY:Spielen im JuZe\, Sa. 16.07.2022 ab 14 Uhr
DESCRIPTION:https://app.neuburg.com/spielen-im-juze-sa-16-07-2022-ab-14-uhr
 _id19771
DTSTART;TZID=Europe/Berlin:20220716T140000
DTEND;TZID=Europe/Berlin:20220716T230000
LOCATION:Jugendzentrum Neuburg\, Fünfzehnerstraße 24\, 86633 Neuburg an d
 er Donau
END:VEVENT
END:VCALENDAR
