BEGIN:VCALENDAR
VERSION:2.0
PRODID:-//Sabre//Sabre VObject 4.5.8//EN
CALSCALE:GREGORIAN
BEGIN:VEVENT
UID:sabre-vobject-6e29e246-a340-4cd5-9c6d-f6afad1a9f82
DTSTAMP:20260420T003855Z
SUMMARY:Open Magic Night Do. 07.07.2022 ab 19 Uhr
DESCRIPTION:https://app.neuburg.com/open-magic-night-do-07-07-2022-ab-19-uh
 r_id19770
DTSTART;TZID=Europe/Berlin:20220707T190000
DTEND;TZID=Europe/Berlin:20220707T230000
LOCATION:Jugendzentrum Neuburg\, Fünfzehnerstraße 24\, 86633 Neuburg an d
 er Donau
END:VEVENT
END:VCALENDAR
