BEGIN:VCALENDAR
VERSION:2.0
PRODID:-//Sabre//Sabre VObject 4.5.8//EN
CALSCALE:GREGORIAN
BEGIN:VEVENT
UID:sabre-vobject-8990ee88-9429-41d1-b7e6-34deba6f48bb
DTSTAMP:20260419T224622Z
SUMMARY:Spielen im JuZe\, Do. 07.07.2022 ab 19 Uhr
DESCRIPTION:https://app.neuburg.com/spielen-im-juze-do-07-07-2022-ab-19-uhr
 _id19769
DTSTART;TZID=Europe/Berlin:20220707T190000
DTEND;TZID=Europe/Berlin:20220707T230000
LOCATION:Jugendzentrum Neuburg\, Fünfzehnerstraße 24\, 86633 Neuburg an d
 er Donau
END:VEVENT
END:VCALENDAR
