BEGIN:VCALENDAR
VERSION:2.0
PRODID:-//Sabre//Sabre VObject 4.5.8//EN
CALSCALE:GREGORIAN
BEGIN:VEVENT
UID:sabre-vobject-541e9bd9-c3a0-4fac-927d-60e78f73bcfb
DTSTAMP:20260420T043042Z
SUMMARY:Spielen im JuZe\, Sa. 25.06.2022 ab 14 Uhr
DESCRIPTION:https://app.neuburg.com/spielen-im-juze-sa-25-06-2022-ab-14-uhr
 _id19366
DTSTART;TZID=Europe/Berlin:20220625T140000
DTEND;TZID=Europe/Berlin:20220625T230000
LOCATION:Jugendzentrum Neuburg\, Fünfzehnerstraße 24\, 86633 Neuburg an d
 er Donau
END:VEVENT
END:VCALENDAR
