BEGIN:VCALENDAR
VERSION:2.0
PRODID:-//Sabre//Sabre VObject 4.5.8//EN
CALSCALE:GREGORIAN
BEGIN:VEVENT
UID:sabre-vobject-65e9e8ba-ca28-4ac0-bf5c-4159fd8cd259
DTSTAMP:20260422T085635Z
SUMMARY:Open Magic Night Do. 16.06.2022 ab 19 Uhr
DESCRIPTION:https://app.neuburg.com/open-magic-night-do-16-06-2022-ab-19-uh
 r_id19365
DTSTART;TZID=Europe/Berlin:20220616T190000
DTEND;TZID=Europe/Berlin:20220616T230000
LOCATION:Jugendzentrum Neuburg\, Fünfzehnerstraße 24\, 86633 Neuburg an d
 er Donau
END:VEVENT
END:VCALENDAR
