BEGIN:VCALENDAR
VERSION:2.0
PRODID:-//Sabre//Sabre VObject 4.5.8//EN
CALSCALE:GREGORIAN
BEGIN:VEVENT
UID:sabre-vobject-66da96f5-7d01-4951-b82b-d93bef7631d0
DTSTAMP:20260420T062100Z
SUMMARY:Spielen im JuZe\, Do. 16.06.2022 ab 19 Uhr
DESCRIPTION:https://app.neuburg.com/spielen-im-juze-do-16-06-2022-ab-19-uhr
 _id19364
DTSTART;TZID=Europe/Berlin:20220616T190000
DTEND;TZID=Europe/Berlin:20220616T230000
LOCATION:Jugendzentrum Neuburg\, Fünfzehnerstraße 24\, 86633 Neuburg an d
 er Donau
END:VEVENT
END:VCALENDAR
