BEGIN:VCALENDAR
VERSION:2.0
PRODID:-//Sabre//Sabre VObject 4.5.8//EN
CALSCALE:GREGORIAN
BEGIN:VEVENT
UID:sabre-vobject-ac8b8022-3ff1-4ef3-a48c-3725d893f6bb
DTSTAMP:20260420T102338Z
SUMMARY:Spielen im JuZe\, Sa. 11.06.2022 ab 14 Uhr
DESCRIPTION:https://app.neuburg.com/spielen-im-juze-sa-11-06-2022-ab-14-uhr
 _id19363
DTSTART;TZID=Europe/Berlin:20220611T140000
DTEND;TZID=Europe/Berlin:20220611T230000
LOCATION:Jugendzentrum Neuburg\, Fünfzehnerstraße 24\, 86633 Neuburg an d
 er Donau
END:VEVENT
END:VCALENDAR
