BEGIN:VCALENDAR
VERSION:2.0
PRODID:-//Sabre//Sabre VObject 4.5.8//EN
CALSCALE:GREGORIAN
BEGIN:VEVENT
UID:sabre-vobject-1fadc563-bcf5-4881-8f91-c592276ec64c
DTSTAMP:20260420T114913Z
SUMMARY:NML 05.06.2022 ab 10:00
DESCRIPTION:https://app.neuburg.com/nml-05-06-2022-ab-10-00_id19362
DTSTART;TZID=Europe/Berlin:20220605T100000
DTEND;TZID=Europe/Berlin:20220605T170000
LOCATION:Jugendzentrum Neuburg\, Fünfzehnerstraße 24\, 86633 Neuburg an d
 er Donau
END:VEVENT
END:VCALENDAR
