BEGIN:VCALENDAR
VERSION:2.0
PRODID:-//Sabre//Sabre VObject 4.5.8//EN
CALSCALE:GREGORIAN
BEGIN:VEVENT
UID:sabre-vobject-3f6ae932-df9d-46f6-a195-dca6eca45406
DTSTAMP:20260420T134405Z
SUMMARY:Spielen im JuZe\, Do. 02.06.2022 ab 19 Uhr
DESCRIPTION:https://app.neuburg.com/spielen-im-juze-do-02-06-2022-ab-19-uhr
 _id19360
DTSTART;TZID=Europe/Berlin:20220602T190000
DTEND;TZID=Europe/Berlin:20220602T230000
LOCATION:Jugendzentrum Neuburg\, Fünfzehnerstraße 24\, 86633 Neuburg an d
 er Donau
END:VEVENT
END:VCALENDAR
