BEGIN:VCALENDAR
VERSION:2.0
PRODID:-//Sabre//Sabre VObject 4.5.8//EN
CALSCALE:GREGORIAN
BEGIN:VEVENT
UID:sabre-vobject-45e99f69-d4b5-4a34-a867-496d5754ed44
DTSTAMP:20260420T172109Z
SUMMARY:Spielen im JuZe\, Sa. 28.05.2022 ab 14 Uhr
DESCRIPTION:https://app.neuburg.com/spielen-im-juze-sa-28-05-2022-ab-14-uhr
 _id19087
DTSTART;TZID=Europe/Berlin:20220528T140000
DTEND;TZID=Europe/Berlin:20220528T230000
LOCATION:Jugendzentrum Neuburg\, Fünfzehnerstraße 24\, 86633 Neuburg an d
 er Donau
END:VEVENT
END:VCALENDAR
