BEGIN:VCALENDAR
VERSION:2.0
PRODID:-//Sabre//Sabre VObject 4.5.8//EN
CALSCALE:GREGORIAN
BEGIN:VEVENT
UID:sabre-vobject-817c3512-b75d-4cfd-8dbc-5d77a5122553
DTSTAMP:20260420T190015Z
SUMMARY:Spielen im JuZe\, Do. 19.05.2022 ab 19 Uhr
DESCRIPTION:https://app.neuburg.com/spielen-im-juze-do-19-05-2022-ab-19-uhr
 _id19086
DTSTART;TZID=Europe/Berlin:20220519T190000
DTEND;TZID=Europe/Berlin:20220519T230000
LOCATION:Jugendzentrum Neuburg\, Fünfzehnerstraße 24\, 86633 Neuburg an d
 er Donau
END:VEVENT
END:VCALENDAR
