BEGIN:VCALENDAR
VERSION:2.0
PRODID:-//Sabre//Sabre VObject 4.5.8//EN
CALSCALE:GREGORIAN
BEGIN:VEVENT
UID:sabre-vobject-d127e767-3b0c-42ba-850c-ffeb11507fcc
DTSTAMP:20260420T204625Z
SUMMARY:Open Magic Night Do. 19.05.2022 ab 19 Uhr
DESCRIPTION:https://app.neuburg.com/open-magic-night-do-19-05-2022-ab-19-uh
 r_id19085
DTSTART;TZID=Europe/Berlin:20220519T190000
DTEND;TZID=Europe/Berlin:20220519T230000
LOCATION:Jugendzentrum Neuburg\, Fünfzehnerstraße 24\, 86633 Neuburg an d
 er Donau
END:VEVENT
END:VCALENDAR
