BEGIN:VCALENDAR
VERSION:2.0
PRODID:-//Sabre//Sabre VObject 4.5.8//EN
CALSCALE:GREGORIAN
BEGIN:VEVENT
UID:sabre-vobject-baba09ee-a4a2-47c1-9925-f88ea65b1c99
DTSTAMP:20260420T224116Z
SUMMARY:NML 15.05.2022 ab 10:00
DESCRIPTION:https://app.neuburg.com/nml-15-05-2022-ab-10-00_id19084
DTSTART;TZID=Europe/Berlin:20220515T100000
DTEND;TZID=Europe/Berlin:20220515T170000
LOCATION:Jugendzentrum Neuburg\, Fünfzehnerstraße 24\, 86633 Neuburg an d
 er Donau
END:VEVENT
END:VCALENDAR
