BEGIN:VCALENDAR
VERSION:2.0
PRODID:-//Sabre//Sabre VObject 4.5.8//EN
CALSCALE:GREGORIAN
BEGIN:VEVENT
UID:sabre-vobject-23df976e-0615-4dce-821d-c87b071d1e8f
DTSTAMP:20260421T004350Z
SUMMARY:Spielen im JuZe\, Sa. 14.05.2022 ab 14 Uhr
DESCRIPTION:https://app.neuburg.com/spielen-im-juze-sa-14-05-2022-ab-14-uhr
 _id19083
DTSTART;TZID=Europe/Berlin:20220514T140000
DTEND;TZID=Europe/Berlin:20220514T230000
LOCATION:Jugendzentrum Neuburg\, Fünfzehnerstraße 24\, 86633 Neuburg an d
 er Donau
END:VEVENT
END:VCALENDAR
