BEGIN:VCALENDAR
VERSION:2.0
PRODID:-//Sabre//Sabre VObject 4.5.8//EN
CALSCALE:GREGORIAN
BEGIN:VEVENT
UID:sabre-vobject-345b3a69-3736-49d4-8e98-a33cc200ef66
DTSTAMP:20260421T024838Z
SUMMARY:Spielen im JuZe\, Do. 05.05.2022 ab 19 Uhr
DESCRIPTION:https://app.neuburg.com/spielen-im-juze-do-05-05-2022-ab-19-uhr
 _id19082
DTSTART;TZID=Europe/Berlin:20220505T190000
DTEND;TZID=Europe/Berlin:20220505T230000
LOCATION:Jugendzentrum Neuburg\, Fünfzehnerstraße 24\, 86633 Neuburg an d
 er Donau
END:VEVENT
END:VCALENDAR
