BEGIN:VCALENDAR
VERSION:2.0
PRODID:-//Sabre//Sabre VObject 4.5.8//EN
CALSCALE:GREGORIAN
BEGIN:VEVENT
UID:sabre-vobject-d53dfb9a-7b8d-462c-aa57-e32336aad117
DTSTAMP:20260421T062753Z
SUMMARY:NML 01.05.2022 ab 10:00
DESCRIPTION:https://app.neuburg.com/nml-01-05-2022-ab-10-00_id18821
DTSTART;TZID=Europe/Berlin:20220501T100000
DTEND;TZID=Europe/Berlin:20220501T170000
LOCATION:Jugendzentrum Neuburg\, Fünfzehnerstraße 24\, 86633 Neuburg an d
 er Donau
END:VEVENT
END:VCALENDAR
