BEGIN:VCALENDAR
VERSION:2.0
PRODID:-//Sabre//Sabre VObject 4.5.8//EN
CALSCALE:GREGORIAN
BEGIN:VEVENT
UID:sabre-vobject-b7b1c32d-5c2b-4257-a8cf-d845f7c6e5cb
DTSTAMP:20260421T081432Z
SUMMARY:Spielen im JuZe\, Sa. 30.04.2022 ab 14 Uhr
DESCRIPTION:https://app.neuburg.com/spielen-im-juze-sa-30-04-2022-ab-14-uhr
 _id18729
DTSTART;TZID=Europe/Berlin:20220430T140000
DTEND;TZID=Europe/Berlin:20220430T230000
LOCATION:Jugendzentrum Neuburg\, Fünfzehnerstraße 24\, 86633 Neuburg an d
 er Donau
END:VEVENT
END:VCALENDAR
