BEGIN:VCALENDAR
VERSION:2.0
PRODID:-//Sabre//Sabre VObject 4.5.8//EN
CALSCALE:GREGORIAN
BEGIN:VEVENT
UID:sabre-vobject-6d6fa630-c33b-47fb-93e5-e30220c659e3
DTSTAMP:20260421T094241Z
SUMMARY:NML 24.04.2022 ab 10:00
DESCRIPTION:https://app.neuburg.com/nml-24-04-2022-ab-10-00_id18728
DTSTART;TZID=Europe/Berlin:20220424T100000
DTEND;TZID=Europe/Berlin:20220424T170000
LOCATION:Jugendzentrum Neuburg\, Fünfzehnerstraße 24\, 86633 Neuburg an d
 er Donau
END:VEVENT
END:VCALENDAR
