BEGIN:VCALENDAR
VERSION:2.0
PRODID:-//Sabre//Sabre VObject 4.5.8//EN
CALSCALE:GREGORIAN
BEGIN:VEVENT
UID:sabre-vobject-e3e87ae9-4232-4d1c-8676-49ef478c68bb
DTSTAMP:20260421T132531Z
SUMMARY:Open Magic Night Do. 21.04.2022 ab 19 Uhr
DESCRIPTION:https://app.neuburg.com/open-magic-night-do-21-04-2022-ab-19-uh
 r_id18727
DTSTART;TZID=Europe/Berlin:20220421T190000
DTEND;TZID=Europe/Berlin:20220421T230000
LOCATION:Jugendzentrum Neuburg\, Fünfzehnerstraße 24\, 86633 Neuburg an d
 er Donau
END:VEVENT
END:VCALENDAR
