BEGIN:VCALENDAR
VERSION:2.0
PRODID:-//Sabre//Sabre VObject 4.5.8//EN
CALSCALE:GREGORIAN
BEGIN:VEVENT
UID:sabre-vobject-b178feeb-e7e8-4cfc-86ca-11116e05a374
DTSTAMP:20260421T113731Z
SUMMARY:Spielen im JuZe\, Do. 21.04.2022 ab 19 Uhr
DESCRIPTION:https://app.neuburg.com/spielen-im-juze-do-21-04-2022-ab-19-uhr
 _id18726
DTSTART;TZID=Europe/Berlin:20220421T190000
DTEND;TZID=Europe/Berlin:20220421T230000
LOCATION:Jugendzentrum Neuburg\, Fünfzehnerstraße 24\, 86633 Neuburg an d
 er Donau
END:VEVENT
END:VCALENDAR
