BEGIN:VCALENDAR
VERSION:2.0
PRODID:-//Sabre//Sabre VObject 4.5.8//EN
CALSCALE:GREGORIAN
BEGIN:VEVENT
UID:sabre-vobject-f5e96a83-609d-44b8-bcc0-d244b7619b4f
DTSTAMP:20260421T145404Z
SUMMARY:Spielen im JuZe\, Sa. 16.04.2022 ab 14 Uhr
DESCRIPTION:https://app.neuburg.com/spielen-im-juze-sa-16-04-2022-ab-14-uhr
 _id18725
DTSTART;TZID=Europe/Berlin:20220416T140000
DTEND;TZID=Europe/Berlin:20220416T230000
LOCATION:Jugendzentrum Neuburg\, Fünfzehnerstraße 24\, 86633 Neuburg an d
 er Donau
END:VEVENT
END:VCALENDAR
