BEGIN:VCALENDAR
VERSION:2.0
PRODID:-//Sabre//Sabre VObject 4.5.8//EN
CALSCALE:GREGORIAN
BEGIN:VEVENT
UID:sabre-vobject-a22cef18-451d-4c36-9787-0128a360e31a
DTSTAMP:20260421T182844Z
SUMMARY:Open Magic Night Do. 07.04.2022 ab 19 Uhr
DESCRIPTION:https://app.neuburg.com/open-magic-night-do-07-04-2022-ab-19-uh
 r_id18724
DTSTART;TZID=Europe/Berlin:20220407T190000
DTEND;TZID=Europe/Berlin:20220407T230000
LOCATION:Jugendzentrum Neuburg\, Fünfzehnerstraße 24\, 86633 Neuburg an d
 er Donau
END:VEVENT
END:VCALENDAR
