BEGIN:VCALENDAR
VERSION:2.0
PRODID:-//Sabre//Sabre VObject 4.5.8//EN
CALSCALE:GREGORIAN
BEGIN:VEVENT
UID:sabre-vobject-49f79605-094e-4dd2-905f-8bb77b13fa99
DTSTAMP:20260421T163818Z
SUMMARY:Spielen im JuZe\, Do. 07.04.2022 ab 19 Uhr
DESCRIPTION:https://app.neuburg.com/spielen-im-juze-do-07-04-2022-ab-19-uhr
 _id18723
DTSTART;TZID=Europe/Berlin:20220407T190000
DTEND;TZID=Europe/Berlin:20220407T230000
LOCATION:Jugendzentrum Neuburg\, Fünfzehnerstraße 24\, 86633 Neuburg an d
 er Donau
END:VEVENT
END:VCALENDAR
