BEGIN:VCALENDAR
VERSION:2.0
PRODID:-//Sabre//Sabre VObject 4.5.8//EN
CALSCALE:GREGORIAN
BEGIN:VEVENT
UID:sabre-vobject-e155791d-4f2d-42bb-8375-c9b4b8c6d72b
DTSTAMP:20260421T234839Z
SUMMARY:Open Magic Night Do. 17.03.2022 ab 19 Uhr
DESCRIPTION:https://app.neuburg.com/open-magic-night-do-17-03-2022-ab-19-uh
 r_id18166
DTSTART;TZID=Europe/Berlin:20220317T190000
DTEND;TZID=Europe/Berlin:20220317T230000
LOCATION:Jugendzentrum Neuburg\, Fünfzehnerstraße 24\, 86633 Neuburg an d
 er Donau
END:VEVENT
END:VCALENDAR
