BEGIN:VCALENDAR
VERSION:2.0
PRODID:-//Sabre//Sabre VObject 4.5.8//EN
CALSCALE:GREGORIAN
BEGIN:VEVENT
UID:sabre-vobject-f05ca1d6-2136-4d8c-af1a-4bb55e06e72c
DTSTAMP:20260421T215418Z
SUMMARY:Spielen im JuZe\, Do. 17.03.2022 ab 19 Uhr
DESCRIPTION:https://app.neuburg.com/spielen-im-juze-do-17-03-2022-ab-19-uhr
 _id18165
DTSTART;TZID=Europe/Berlin:20220317T190000
DTEND;TZID=Europe/Berlin:20220317T230000
LOCATION:Jugendzentrum Neuburg\, Fünfzehnerstraße 24\, 86633 Neuburg an d
 er Donau
END:VEVENT
END:VCALENDAR
