BEGIN:VCALENDAR
VERSION:2.0
PRODID:-//Sabre//Sabre VObject 4.5.8//EN
CALSCALE:GREGORIAN
BEGIN:VEVENT
UID:sabre-vobject-01123a83-8531-4812-922f-d3cd9122d731
DTSTAMP:20260422T033038Z
SUMMARY:NML 13.03.2022 ab 10:00
DESCRIPTION:https://app.neuburg.com/nml-13-03-2022-ab-10-00_id18045
DTSTART;TZID=Europe/Berlin:20220313T100000
DTEND;TZID=Europe/Berlin:20220313T170000
LOCATION:Jugendzentrum Neuburg\, Fünfzehnerstraße 24\, 86633 Neuburg an d
 er Donau
END:VEVENT
END:VCALENDAR
