BEGIN:VCALENDAR
VERSION:2.0
PRODID:-//Sabre//Sabre VObject 4.5.8//EN
CALSCALE:GREGORIAN
BEGIN:VEVENT
UID:sabre-vobject-3a41b07f-ab77-41c0-901c-6c1de3553c9d
DTSTAMP:20260422T110123Z
SUMMARY:Open Magic Night Do. 03.03.2022 ab 19 Uhr
DESCRIPTION:https://app.neuburg.com/open-magic-night-do-03-03-2022-ab-19-uh
 r_id18043
DTSTART;TZID=Europe/Berlin:20220303T190000
DTEND;TZID=Europe/Berlin:20220303T230000
LOCATION:Jugendzentrum Neuburg\, Fünfzehnerstraße 24\, 86633 Neuburg an d
 er Donau
END:VEVENT
END:VCALENDAR
