BEGIN:VCALENDAR
VERSION:2.0
PRODID:-//Sabre//Sabre VObject 4.5.8//EN
CALSCALE:GREGORIAN
BEGIN:VEVENT
UID:sabre-vobject-b329f72f-8b5b-4a39-ac52-cb470feba287
DTSTAMP:20260422T181513Z
SUMMARY:Open Magic Night 17.02.2022 ab 19 Uhr
DESCRIPTION:https://app.neuburg.com/open-magic-night-17-02-2022-ab-19-uhr_i
 d17608
DTSTART;TZID=Europe/Berlin:20220217T190000
DTEND;TZID=Europe/Berlin:20220217T230000
LOCATION:Jugendzentrum Neuburg\, Fünfzehnerstraße 24\, 86633 Neuburg an d
 er Donau
END:VEVENT
END:VCALENDAR
