BEGIN:VCALENDAR
VERSION:2.0
PRODID:-//Sabre//Sabre VObject 4.5.8//EN
CALSCALE:GREGORIAN
BEGIN:VEVENT
UID:sabre-vobject-7d4ceab5-b027-4901-87f5-32d5adf29226
DTSTAMP:20260422T234828Z
SUMMARY:Open Magic Night 03.02.2022 ab 19 Uhr
DESCRIPTION:https://app.neuburg.com/open-magic-night-03-02-2022-ab-19-uhr_i
 d17605
DTSTART;TZID=Europe/Berlin:20220203T190000
DTEND;TZID=Europe/Berlin:20220203T230000
LOCATION:Jugendzentrum Neuburg\, Fünfzehnerstraße 24\, 86633 Neuburg an d
 er Donau
END:VEVENT
END:VCALENDAR
