BEGIN:VCALENDAR
VERSION:2.0
PRODID:-//Sabre//Sabre VObject 4.5.8//EN
CALSCALE:GREGORIAN
BEGIN:VEVENT
UID:sabre-vobject-7a34e3ca-3408-4bb1-bdc3-befd99b155d4
DTSTAMP:20260422T220015Z
SUMMARY:Spielen im JuZe\, Do. 03.02.2022 ab 19 Uhr
DESCRIPTION:https://app.neuburg.com/spielen-im-juze-do-03-02-2022-ab-19-uhr
 _id17604
DTSTART;TZID=Europe/Berlin:20220203T190000
DTEND;TZID=Europe/Berlin:20220203T230000
LOCATION:Jugendzentrum Neuburg\, Fünfzehnerstraße 24\, 86633 Neuburg an d
 er Donau
END:VEVENT
END:VCALENDAR
