BEGIN:VCALENDAR
VERSION:2.0
PRODID:-//Sabre//Sabre VObject 4.5.8//EN
CALSCALE:GREGORIAN
BEGIN:VEVENT
UID:sabre-vobject-691213f4-4b81-430f-9ecc-02cfc55d1fbc
DTSTAMP:20260423T015029Z
SUMMARY:NML 30.01.2022 ab 10:00
DESCRIPTION:https://app.neuburg.com/nml-30-01-2022-ab-10-00_id17487
DTSTART;TZID=Europe/Berlin:20220130T100000
DTEND;TZID=Europe/Berlin:20220130T170000
LOCATION:Jugendzentrum Neuburg\, Fünfzehnerstraße 24\, 86633 Neuburg an d
 er Donau
END:VEVENT
END:VCALENDAR
