BEGIN:VCALENDAR
VERSION:2.0
PRODID:-//Sabre//Sabre VObject 4.5.8//EN
CALSCALE:GREGORIAN
BEGIN:VEVENT
UID:sabre-vobject-80ab74d3-d639-4f82-b594-1ddbc1492d4e
DTSTAMP:20260423T054345Z
SUMMARY:Spielen im JuZe\, Do. 20.01.2022 ab 19 Uhr
DESCRIPTION:https://app.neuburg.com/spielen-im-juze-do-20-01-2022-ab-19-uhr
 _id17485
DTSTART;TZID=Europe/Berlin:20220120T190000
DTEND;TZID=Europe/Berlin:20220120T230000
LOCATION:Jugendzentrum Neuburg\, Fünfzehnerstraße 24\, 86633 Neuburg an d
 er Donau
END:VEVENT
END:VCALENDAR
