BEGIN:VCALENDAR
VERSION:2.0
PRODID:-//Sabre//Sabre VObject 4.5.8//EN
CALSCALE:GREGORIAN
BEGIN:VEVENT
UID:sabre-vobject-14785334-8d81-45c0-ae95-d3292d73946e
DTSTAMP:20260423T073521Z
SUMMARY:Open Magic Night 20.01.2022 ab 19 Uhr
DESCRIPTION:https://app.neuburg.com/open-magic-night-20-01-2022-ab-19-uhr_i
 d17484
DTSTART;TZID=Europe/Berlin:20220120T190000
DTEND;TZID=Europe/Berlin:20220120T230000
LOCATION:Jugendzentrum Neuburg\, Fünfzehnerstraße 24\, 86633 Neuburg an d
 er Donau
END:VEVENT
END:VCALENDAR
