BEGIN:VCALENDAR
VERSION:2.0
PRODID:-//Sabre//Sabre VObject 4.5.8//EN
CALSCALE:GREGORIAN
BEGIN:VEVENT
UID:sabre-vobject-8bd06ea9-82ac-4374-bba0-5a946456d6eb
DTSTAMP:20260423T104316Z
SUMMARY:NML 09.01.2022 ab 10:00
DESCRIPTION:https://app.neuburg.com/nml-09-01-2022-ab-10-00_id17482
DTSTART;TZID=Europe/Berlin:20220109T100000
DTEND;TZID=Europe/Berlin:20220109T170000
LOCATION:Jugendzentrum Neuburg\, Fünfzehnerstraße 24\, 86633 Neuburg an d
 er Donau
END:VEVENT
END:VCALENDAR
