BEGIN:VCALENDAR
VERSION:2.0
PRODID:-//Sabre//Sabre VObject 4.5.8//EN
CALSCALE:GREGORIAN
BEGIN:VEVENT
UID:sabre-vobject-1db70328-349b-42fe-a722-d0ccadd7c452
DTSTAMP:20260423T122519Z
SUMMARY:Spielen im JuZe\, Do. 06.01.2022 ab 19 Uhr
DESCRIPTION:https://app.neuburg.com/spielen-im-juze-do-06-01-2022-ab-19-uhr
 _id17481
DTSTART;TZID=Europe/Berlin:20220106T190000
DTEND;TZID=Europe/Berlin:20220106T230000
LOCATION:Jugendzentrum Neuburg\, Fünfzehnerstraße 24\, 86633 Neuburg an d
 er Donau
END:VEVENT
END:VCALENDAR
