BEGIN:VCALENDAR
VERSION:2.0
PRODID:-//Sabre//Sabre VObject 4.5.8//EN
CALSCALE:GREGORIAN
BEGIN:VEVENT
UID:sabre-vobject-8bbf8592-9ea4-4a57-96c5-ffdfb7ab4474
DTSTAMP:20260423T142524Z
SUMMARY:Open Magic Night 06.01.2022 ab 19 Uhr
DESCRIPTION:https://app.neuburg.com/open-magic-night-06-01-2022-ab-19-uhr_i
 d17480
DTSTART;TZID=Europe/Berlin:20220106T190000
DTEND;TZID=Europe/Berlin:20220106T230000
LOCATION:Jugendzentrum Neuburg\, Fünfzehnerstraße 24\, 86633 Neuburg an d
 er Donau
END:VEVENT
END:VCALENDAR
