BEGIN:VCALENDAR
VERSION:2.0
PRODID:-//Sabre//Sabre VObject 4.5.8//EN
CALSCALE:GREGORIAN
BEGIN:VEVENT
UID:sabre-vobject-4c368218-dcbd-4f4a-95ea-e6aef317a406
DTSTAMP:20260423T160612Z
SUMMARY:Spielen im JuZe\, Sa. 11.12.2021 ab 14 Uhr
DESCRIPTION:https://app.neuburg.com/spielen-im-juze-sa-11-12-2021-ab-14-uhr
 _id17204
DTSTART;TZID=Europe/Berlin:20211211T140000
DTEND;TZID=Europe/Berlin:20211211T230000
LOCATION:Jugendzentrum Neuburg\, Fünfzehnerstraße 24\, 86633 Neuburg an d
 er Donau
END:VEVENT
END:VCALENDAR
