BEGIN:VCALENDAR
VERSION:2.0
PRODID:-//Sabre//Sabre VObject 4.5.8//EN
CALSCALE:GREGORIAN
BEGIN:VEVENT
UID:sabre-vobject-de2f22e3-5327-40e0-9c7b-9deaa471a701
DTSTAMP:20260423T180442Z
SUMMARY:NML 28.11.2021 ab 10:00
DESCRIPTION:https://app.neuburg.com/nml-28-11-2021-ab-10-00_id17174
DTSTART;TZID=Europe/Berlin:20211128T100000
DTEND;TZID=Europe/Berlin:20211128T170000
LOCATION:Jugendzentrum Neuburg\, Fünfzehnerstraße 24\, 86633 Neuburg an d
 er Donau
END:VEVENT
END:VCALENDAR
