BEGIN:VCALENDAR
VERSION:2.0
PRODID:-//Sabre//Sabre VObject 4.5.8//EN
CALSCALE:GREGORIAN
BEGIN:VEVENT
UID:sabre-vobject-f1cc4ddd-a4f0-4323-b6e7-89a176478735
DTSTAMP:20260423T194603Z
SUMMARY:Spielen im JuZe\, Sa. 27.11.2021 ab 14 Uhr
DESCRIPTION:https://app.neuburg.com/spielen-im-juze-sa-27-11-2021-ab-14-uhr
 _id17172
DTSTART;TZID=Europe/Berlin:20211127T140000
DTEND;TZID=Europe/Berlin:20211127T230000
LOCATION:Jugendzentrum Neuburg\, Fünfzehnerstraße 24\, 86633 Neuburg an d
 er Donau
END:VEVENT
END:VCALENDAR
