BEGIN:VCALENDAR
VERSION:2.0
PRODID:-//Sabre//Sabre VObject 4.5.8//EN
CALSCALE:GREGORIAN
BEGIN:VEVENT
UID:sabre-vobject-0b4b6fbe-e929-431f-b29f-5e2a36150622
DTSTAMP:20260426T004146Z
SUMMARY:Neuburger Barockkonzerte
DESCRIPTION:https://app.neuburg.com/neuburger-barockkonzerte_id16704
DTSTART;TZID=Europe/Berlin:20211008T000000
DTEND;TZID=Europe/Berlin:20211009T000000
LOCATION:Kongregationssaal\, Birdland Jazz Club
END:VEVENT
END:VCALENDAR
