BEGIN:VCALENDAR
VERSION:2.0
PRODID:-//Sabre//Sabre VObject 4.5.8//EN
CALSCALE:GREGORIAN
BEGIN:VEVENT
UID:sabre-vobject-23d1924f-a70c-4f8b-8171-702a2a2d5447
DTSTAMP:20260425T173953Z
SUMMARY:Schlemmerfest auf dem Neuburger Volksfestplatz
DESCRIPTION:https://app.neuburg.com/schlemmerfest-auf-dem-neuburger-volksfe
 stplatz_id16543
DTSTART;TZID=Europe/Berlin:20210910T160000
DTEND;TZID=Europe/Berlin:20210912T210000
LOCATION:Volksfestplatz\, Volksfestplatz\, 86633 Neuburg 
END:VEVENT
END:VCALENDAR
